BEGIN:VCALENDAR
VERSION:2.0
PRODID:-//wp-events-plugin.com//6.6.4.4//EN
TZID:Australia/Sydney
X-WR-TIMEZONE:Australia/Sydney
BEGIN:VEVENT
UID:1158@naturaldeathcarecentre.org
DTSTART;TZID=Australia/Sydney;VALUE=DATE:20260522
DTEND;TZID=Australia/Sydney;VALUE=DATE:20260525
DTSTAMP:20260219T034420Z
URL:https://www.naturaldeathcarecentre.org/events/3279/
SUMMARY:2026 Byron #4 DEATHWALKER TRAINING
DESCRIPTION:THIS TRAINING IS NOW FULL. PLEASE CONTACT US TO GO ON THE WAITL
 IST\, AS THINGS OFTEN JIGGLE CLOSER TO THE TIME.\n\nThe in-person Deathwal
 ker Trainings with Zenith Virago are a comprehensive and transformative ex
 perience. She has taught versions of this Training for over 25 years\, and
  has worked as a pioneer in more contemporary and holistic death care prac
 tices for over 30 years.  This Training includes aspects of death doula w
 ork\, but is much more comprehensive in its content\, as it also includes 
 Ceremony creation and delivery.\n\nThe Deathwalker Trainings are highly re
 garded and have been delivered to people for their personal\, professional
  or complimentary use\, they are applicable to everyone.  They are an inv
 aluable body of work to help start you off\, wake you up\, or to enhance y
 our already rich personal or professional experience. For many\, they are 
 unexpectedly lifechanging.\n\nZenith is an acknowledged\, respected Elder 
 and pioneer practitioner in the profound work of hands-on end of life and 
 after-death care.  She has been teaching\, pre-need\, end of life\, after
 -death care and powerful ceremony.  She delivers everything with an embod
 ied openness\, honesty and a candour that allows you to go deeper than you
  thought possible.  Check out her website\, TEDX talk and many video/audi
 o links.\n\nOur definition of a Deathwalker is:-\n\n 	a person who walks t
 heir own journey towards their death as openly\, courageously and as best 
 they can.\n 	a person who walks with or accompanies others\, in their deat
 h or bereavement journey to encourage and empower them to be as open\, cou
 rageous and the best they can. Offering guidance to encourage and empower 
 everyone.\n\nZenith is trying to offer the learnings from 30 years of expe
 rience in to this 3 day non-residential Training. It is nearly everything 
 you need to know about death\, dying &amp\; ceremony\, covering social\, l
 egal\, practical\, emotional and many other aspects of the journey. It is 
 deep\, authentic work and includes\, but is much more than just death doul
 a work. Check out her website and many video links.\n\nThis is an intensiv
 e\, informative and intimate workshop.  Enabling you to explore your rela
 tionship to your own death\, affirming what you may intrinsically know dee
 p down\, caring or working with others\, and preparing you by sharing and 
 explaining multiple aspects of the death\, dying\, loss and ceremony proce
 ss\, and so much more.\n\nShe brings a wealth of lived experience\, a hybr
 id of generosity\, for you to take what you need\, into a new\, richer pla
 ce to do this work personally or professionally.  As a bonus it will help
  you face your own death with more awareness and grace.  Listen to your h
 eart\, find the experienced teacher that sings to you and opens you to a d
 eeper awareness of life\, death\, yourself and humanity.\n\nThis exceptio
 nal Training covers the whole spectrum from wellness to bereavement\, it
 ’s about knowing what your options are\, considering them\, and making t
 he decisions that are right for you.  It is interactive between participa
 nts and Zenith\, amongst many others things it includes:\n\n 	Exploring an
 d reframing more useful language\n 	Sustainable self-care in caring or wor
 king with the dying &amp\; bereaved\n 	Pre-need legal information\, prepar
 ation and advocacy\n 	Transitioning from illness into dying\n 	Care for th
 e dying and after-death body-care\n 	Expected and sudden death\n 	Shroudin
 g &amp\; Body disposal options\n 	Understanding Ceremony structure and con
 tent\n 	Working with trauma through ceremony\n 	Healthier bereavement and 
 loss.\n\nCombining a hybrid of ancient and more contemporary ways of being
  present\, real and beneficial at a challenging time\, appropriate for eve
 ryone – for your own personal journey\, to accompany a family member or 
 friend\, to increase professional skills or if you feel you have a calling
  to some or all aspects of this work.\n\nClasses comprise up to 24 people\
 , allowing an intimate alchemy to arise\, which encourages personal explor
 ation\, growth and questions to also occur within the collective experienc
 e.\n\n*In some locations\, there is basic overnight accommodation so pleas
 e contact us if you want to explore that option.\n\nOn completion of Death
 walker Training\, participants receive a Certificate of Attendance.  Afte
 r careful consideration\, the NDCC chose not to become an RTO\, and not to
  offer accredited Training. Currently it is not possible to describe yours
 elf as a Qualified or Certified Deathwalker.  If it was a certifiable co
 urse\, it would need to be much longer than 3 days\, and would require com
 petency tasks and assessments.\n\nWe decided to deliver this body of work\
 , universal knowledge and practical information for people\, so they could
  add to or enhance their existing knowledge and experience. Their inherent
  capacity to do death well.  Rather than create a much longer more comple
 x and expensive course\, we trust each person will take this Training and 
 allow it to evolve and grow them in the most beneficial way for each perso
 n and their communities.\n\nThere is a minimum requirement of 15 people to
  go ahead\, and to make the group fire together. If the minimum number is 
 not reached 1 month out\, the Training will be cancelled.  This has never
  happened so far.\n\nSee Training section for more detailed content info.
CATEGORIES:Deathwalker Training
LOCATION:Private Venue\, Main Arm Road\, Mullumbimby\, NSW\, 2482\, Austral
 ia
X-APPLE-STRUCTURED-LOCATION;VALUE=URI;X-ADDRESS=Main Arm Road\, Mullumbimby
 \, NSW\, 2482\, Australia;X-APPLE-RADIUS=100;X-TITLE=Private Venue:geo:0,0
END:VEVENT
BEGIN:VTIMEZONE
TZID:Australia/Sydney
X-LIC-LOCATION:Australia/Sydney
BEGIN:STANDARD
DTSTART:20260405T020000
TZOFFSETFROM:+1100
TZOFFSETTO:+1000
TZNAME:AEST
END:STANDARD
END:VTIMEZONE
END:VCALENDAR