BEGIN:VCALENDAR
VERSION:2.0
PRODID:-//wp-events-plugin.com//7.2.3.1//EN
TZID:Australia/Sydney
X-WR-TIMEZONE:Australia/Sydney
BEGIN:VEVENT
UID:1131@naturaldeathcarecentre.org
DTSTART;TZID=Australia/Melbourne;VALUE=DATE:20240503
DTEND;TZID=Australia/Melbourne;VALUE=DATE:20240506
DTSTAMP:20240426T035702Z
URL:https://www.naturaldeathcarecentre.org/events/2024-fryerstown-castlema
 ine-deathwalker-training/
SUMMARY:2024 Fryerstown\, Castlemaine Deathwalker Training
DESCRIPTION:Due to demand- The return of in-person trainings. This event is
  now full. But contact us and go on a wait list incase there are any chnag
 es at the last minute.\n\nA 3 day non-residential intensive\, informative 
 and intimate workshop.  Exploring and explaining multiple aspects of deat
 h\, dying\, loss and ceremony\, and so much more. The Training covers the 
 spectrum of the journey and processes involved and amongst others things i
 ncludes:\n\n 	Pre-need information and advocacy\n 	Transitioning from illn
 ess to dying\n 	Care for the dying and after death body care\n 	Expected a
 nd sudden death\n 	Body disposal options\n 	Ceremony structure and content
 \n 	Healthier bereavement and loss.\n\nCombining a hybrid of older and mor
 e contemporary ways of being present\, real and beneficial at a challengin
 g time.  Available and appropriate for everyone – for your own personal
  journey\, to accompany a family member or friend\, to increase profession
 al skills or if you feel you have a calling to some or all aspects of this
  work.\n\nClasses usually comprise between 10 and 25 people. The small siz
 e of the groups allows an intimate alchemy to arise\, which encourages per
 sonal exploration and growth to also occur within the collective experienc
 e.\n\nThis Training covers social\, legal\, practical\, emotional and othe
 r aspects of the journey\, and is deep profound work offered by Zenith Vir
 ago from 30 years of working and teaching in pre-need\, end of life\, afte
 r-death care and ceremony.  Zenith brings a wealth of lived experience\, 
 and a hybrid of generosity\, kindness and quality\, as well as respect for
  everyones who brings their own inherent capacity\, personal and professio
 nal experience to offer\, this will enhance and grow you to a new\, richer
  place to do this work personally or professionally.  As a bonus it will 
 help you face your own death with more awareness and grace.  Some people 
 refer to this work as Doula work..... this is so much more.\n\nOur definit
 ion of a Deathwalker is:-\n\n 	a person who walks their own journey toward
 s their death as openly\, courageously and as best they can.\n 	a person w
 ho walks with or accompanies others\, in their death or bereavement journe
 y to encourage and empower them to be as open\, courageous and the best th
 ey can. Offering guidance to encourage and empower everyone.\n\n* If the r
 egistrations do not reach the 10 person minimum one month out from the Wor
 kshop it will be cancelled and a full refund given.\n\nSee Training sectio
 n for more detailed content info
CATEGORIES:Natural Death Care Centre Event,Deathwalker Training
LOCATION:Fryerstown School\, 5 Camp Street\, Fryerstown\, Castlemaine\, VIC
 \, 3451\, Australia
GEO:-37.140916;144.251314
X-APPLE-STRUCTURED-LOCATION;VALUE=URI;X-ADDRESS=5 Camp Street\, Fryerstown\
 , Castlemaine\, VIC\, 3451\, Australia;X-APPLE-RADIUS=100;X-TITLE=Fryersto
 wn School:geo:-37.140916,144.251314
END:VEVENT
BEGIN:VTIMEZONE
TZID:Australia/Melbourne
X-LIC-LOCATION:Australia/Melbourne
BEGIN:STANDARD
DTSTART:20240407T020000
TZOFFSETFROM:+1100
TZOFFSETTO:+1000
TZNAME:AEST
END:STANDARD
END:VTIMEZONE
END:VCALENDAR